BEGIN:VCALENDAR
VERSION:2.0
PRODID:icalendar-ruby
CALSCALE:GREGORIAN
METHOD:PUBLISH
BEGIN:VEVENT
DTSTAMP:20260425T163154Z
UID:142-958260@fredsvillelutheran.org
DTSTART:20261105T150000Z
DTEND:20261105T180000Z
CLASS:PUBLIC
CREATED:20260425T112741
DESCRIPTION:Fredsville quilters meet every Thursday to make quilts for Worl
 d Missions.  We welcome volunteers to come and help.  No quilting experi
 ence needed.  
LAST-MODIFIED:20260425T112741
LOCATION:Fredsville
SUMMARY:Quilters
URL;VALUE=URI:https://www.fredsvillelutheran.org/events/quilters--142/2026-
 11-05
ATTACH;FILENAME=quilt.jpg;FMTTYPE=image/jpeg:https://dq5pwpg1q8ru0.cloudfro
 nt.net/2022/11/10/08/03/23/de1001ea-4f63-4a5b-95e6-a6cc467b90a3/quilt.jpg
END:VEVENT
END:VCALENDAR
