BEGIN:VCALENDAR
VERSION:2.0
PRODID:icalendar-ruby
CALSCALE:GREGORIAN
METHOD:PUBLISH
BEGIN:VEVENT
DTSTAMP:20260425T122532Z
UID:296-957405@fredsvillelutheran.org
DTSTART:20260913T153000Z
DTEND:20260913T163000Z
CLASS:PUBLIC
CREATED:20260425T060545
DESCRIPTION:Sunday School
LAST-MODIFIED:20260425T060545
LOCATION:
SUMMARY:Sunday School
URL;VALUE=URI:https://www.fredsvillelutheran.org/events/sunday-school--296/
 2026-09-13
ATTACH;FILENAME=sunday school.jpg;FMTTYPE=image/jpeg:https://dq5pwpg1q8ru0.
 cloudfront.net/2025/12/31/15/59/49/1614c8d8-c5c8-494c-ac58-cc4e2cb848fe/su
 nday%20school.jpg
END:VEVENT
END:VCALENDAR
