BEGIN:VCALENDAR
VERSION:2.0
PRODID:icalendar-ruby
CALSCALE:GREGORIAN
METHOD:PUBLISH
BEGIN:VEVENT
DTSTAMP:20260425T214052Z
UID:296-958812@fredsvillelutheran.org
DTSTART:20261025T153000Z
DTEND:20261025T163000Z
CLASS:PUBLIC
CREATED:20260425T140800
DESCRIPTION:Sunday School
LAST-MODIFIED:20260425T140800
LOCATION:
SUMMARY:Sunday School
URL;VALUE=URI:https://www.fredsvillelutheran.org/events/sunday-school--296/
 2026-10-25
ATTACH;FILENAME=sunday school.jpg;FMTTYPE=image/jpeg:https://dq5pwpg1q8ru0.
 cloudfront.net/2025/12/31/15/59/49/1614c8d8-c5c8-494c-ac58-cc4e2cb848fe/su
 nday%20school.jpg
END:VEVENT
END:VCALENDAR
